BEGIN:VCALENDAR
VERSION:2.0
PRODID:-//Redd Volkaert - ECPv6.15.20//NONSGML v1.0//EN
CALSCALE:GREGORIAN
METHOD:PUBLISH
X-ORIGINAL-URL:https://reddvolkaert.com
X-WR-CALDESC:Events for Redd Volkaert
REFRESH-INTERVAL;VALUE=DURATION:PT1H
X-Robots-Tag:noindex
X-PUBLISHED-TTL:PT1H
BEGIN:VTIMEZONE
TZID:America/New_York
BEGIN:DAYLIGHT
TZOFFSETFROM:-0500
TZOFFSETTO:-0400
TZNAME:EDT
DTSTART:20250309T070000
END:DAYLIGHT
BEGIN:STANDARD
TZOFFSETFROM:-0400
TZOFFSETTO:-0500
TZNAME:EST
DTSTART:20251102T060000
END:STANDARD
BEGIN:DAYLIGHT
TZOFFSETFROM:-0500
TZOFFSETTO:-0400
TZNAME:EDT
DTSTART:20260308T070000
END:DAYLIGHT
BEGIN:STANDARD
TZOFFSETFROM:-0400
TZOFFSETTO:-0500
TZNAME:EST
DTSTART:20261101T060000
END:STANDARD
BEGIN:DAYLIGHT
TZOFFSETFROM:-0500
TZOFFSETTO:-0400
TZNAME:EDT
DTSTART:20270314T070000
END:DAYLIGHT
BEGIN:STANDARD
TZOFFSETFROM:-0400
TZOFFSETTO:-0500
TZNAME:EST
DTSTART:20271107T060000
END:STANDARD
END:VTIMEZONE
BEGIN:VEVENT
DTSTART;TZID=America/New_York:20260612T210000
DTEND;TZID=America/New_York:20260613T010000
DTSTAMP:20260423T175017
CREATED:20260410T150804Z
LAST-MODIFIED:20260410T150806Z
UID:2172-1781298000-1781312400@reddvolkaert.com
SUMMARY:Hank Deitles
DESCRIPTION:Having a ball with the Dave Chappell Band\, dancing fever!
URL:https://reddvolkaert.com/event/hank-deitles/
LOCATION:Hank Dietles Tavern\, 11010 Rockville Pike\, Rockville\, Maryland\, 20852
END:VEVENT
END:VCALENDAR