BEGIN:VCALENDAR
VERSION:2.0
PRODID:-//Redd Volkaert - ECPv6.15.20//NONSGML v1.0//EN
CALSCALE:GREGORIAN
METHOD:PUBLISH
X-WR-CALNAME:Redd Volkaert
X-ORIGINAL-URL:https://reddvolkaert.com
X-WR-CALDESC:Events for Redd Volkaert
REFRESH-INTERVAL;VALUE=DURATION:PT1H
X-Robots-Tag:noindex
X-PUBLISHED-TTL:PT1H
BEGIN:VTIMEZONE
TZID:America/New_York
BEGIN:DAYLIGHT
TZOFFSETFROM:-0500
TZOFFSETTO:-0400
TZNAME:EDT
DTSTART:20250309T070000
END:DAYLIGHT
BEGIN:STANDARD
TZOFFSETFROM:-0400
TZOFFSETTO:-0500
TZNAME:EST
DTSTART:20251102T060000
END:STANDARD
BEGIN:DAYLIGHT
TZOFFSETFROM:-0500
TZOFFSETTO:-0400
TZNAME:EDT
DTSTART:20260308T070000
END:DAYLIGHT
BEGIN:STANDARD
TZOFFSETFROM:-0400
TZOFFSETTO:-0500
TZNAME:EST
DTSTART:20261101T060000
END:STANDARD
BEGIN:DAYLIGHT
TZOFFSETFROM:-0500
TZOFFSETTO:-0400
TZNAME:EDT
DTSTART:20270314T070000
END:DAYLIGHT
BEGIN:STANDARD
TZOFFSETFROM:-0400
TZOFFSETTO:-0500
TZNAME:EST
DTSTART:20271107T060000
END:STANDARD
END:VTIMEZONE
BEGIN:VEVENT
DTSTART;TZID=America/New_York:20260528T190000
DTEND;TZID=America/New_York:20260528T210000
DTSTAMP:20260423T193630
CREATED:20260216T215505Z
LAST-MODIFIED:20260216T215508Z
UID:2131-1779994800-1780002000@reddvolkaert.com
SUMMARY:Floyd Country Store
DESCRIPTION:Good Ol’ Happy Hours!
URL:https://reddvolkaert.com/event/floyd-country-store-51/
LOCATION:Floyd Country Store\, 206 South Locust Street\, Floyd\, VA\, 24091\, United States
END:VEVENT
BEGIN:VEVENT
DTSTART;TZID=America/New_York:20260524T100000
DTEND;TZID=America/New_York:20260524T170000
DTSTAMP:20260423T193630
CREATED:20260216T215247Z
LAST-MODIFIED:20260216T215344Z
UID:2128-1779616800-1779642000@reddvolkaert.com
SUMMARY:'Stompin' The West' Swing Camp
DESCRIPTION:If you love Western Swing Music and can’t get enough and want to learn more\, here’s your chance!! \n\n\n\n \n\n\n\n INSTRUCTORS (classes are intermediate/advanced levels) \n\n\n\nSherry McKenzie – fiddle and twin fiddle \n\n\n\nRidge Roberts – fiddle and twin fiddle \n\n\n\nLeah Sawyer – intermediate fiddle \n\n\n\nJoey McKenzie – rhythm guitar \n\n\n\nRedd Volkaert – lead guitar \n\n\n\nGeorgia Parker – intermediate guitar \n\n\n\nPaul Glasse – mandolin \n\n\n\nMatthew Mefford – bass \n\n\n\nJeremy Wakefield – lap and pedal steel guitar
URL:https://reddvolkaert.com/event/stompin-the-west-swing-camp-3/
LOCATION:Montana Swing Camp\, 4806 US-89\, Monarch\, Montana\, 59463
END:VEVENT
BEGIN:VEVENT
DTSTART;TZID=America/New_York:20260523T100000
DTEND;TZID=America/New_York:20260523T170000
DTSTAMP:20260423T193630
CREATED:20260216T215118Z
LAST-MODIFIED:20260216T215121Z
UID:2126-1779530400-1779555600@reddvolkaert.com
SUMMARY:'Stompin' The West' Swing Camp
DESCRIPTION:If you love Western Swing Music and can’t get enough and want to learn more\, here’s your chance!! \n\n\n\n \n\n\n\n INSTRUCTORS (classes are intermediate/advanced levels) \n\n\n\nSherry McKenzie – fiddle and twin fiddle \n\n\n\nRidge Roberts – fiddle and twin fiddle \n\n\n\nLeah Sawyer – intermediate fiddle \n\n\n\nJoey McKenzie – rhythm guitar \n\n\n\nRedd Volkaert – lead guitar \n\n\n\nGeorgia Parker – intermediate guitar \n\n\n\nPaul Glasse – mandolin \n\n\n\nMatthew Mefford – bass \n\n\n\nJeremy Wakefield – lap and pedal steel guitar
URL:https://reddvolkaert.com/event/stompin-the-west-swing-camp-2/
LOCATION:Montana Swing Camp\, 4806 US-89\, Monarch\, Montana\, 59463
END:VEVENT
BEGIN:VEVENT
DTSTART;TZID=America/New_York:20260522T100000
DTEND;TZID=America/New_York:20260522T170000
DTSTAMP:20260423T193630
CREATED:20260216T214847Z
LAST-MODIFIED:20260216T215006Z
UID:2123-1779444000-1779469200@reddvolkaert.com
SUMMARY:'Stompin' The West' Swing Camp
DESCRIPTION:If you love Western Swing Music and can’t get enough and want to learn more\, here’s your chance!! \n\n\n\n \n\n\n\n INSTRUCTORS (classes are intermediate/advanced levels) \n\n\n\nSherry McKenzie – fiddle and twin fiddle \n\n\n\nRidge Roberts – fiddle and twin fiddle \n\n\n\nLeah Sawyer – intermediate fiddle \n\n\n\nJoey McKenzie – rhythm guitar \n\n\n\nRedd Volkaert – lead guitar \n\n\n\nGeorgia Parker – intermediate guitar \n\n\n\nPaul Glasse – mandolin \n\n\n\nMatthew Mefford – bass \n\n\n\nJeremy Wakefield – lap and pedal steel guitar
URL:https://reddvolkaert.com/event/stompin-the-west-western-swing-camp-6/
LOCATION:Montana Swing Camp\, 4806 US-89\, Monarch\, Montana\, 59463
END:VEVENT
BEGIN:VEVENT
DTSTART;TZID=America/New_York:20260521T100000
DTEND;TZID=America/New_York:20260521T170000
DTSTAMP:20260423T193630
CREATED:20260216T214618Z
LAST-MODIFIED:20260216T214621Z
UID:2117-1779357600-1779382800@reddvolkaert.com
SUMMARY:'Stompin' The West' Swing Camp!
DESCRIPTION:If you love Western Swing Music and can’t get enough and want to learn more\, here’s your chance!! \n\n\n\n \n\n\n\n INSTRUCTORS (classes are intermediate/advanced levels) \n\n\n\nSherry McKenzie – fiddle and twin fiddle \n\n\n\nRidge Roberts – fiddle and twin fiddle \n\n\n\nLeah Sawyer – intermediate fiddle \n\n\n\nJoey McKenzie – rhythm guitar \n\n\n\nRedd Volkaert – lead guitar \n\n\n\nGeorgia Parker – intermediate guitar \n\n\n\nPaul Glasse – mandolin \n\n\n\nMatthew Mefford – bass \n\n\n\nJeremy Wakefield – lap and pedal steel guitar
URL:https://reddvolkaert.com/event/stompin-the-west-swing-camp/
LOCATION:Montana Swing Camp\, 4806 US-89\, Monarch\, Montana\, 59463
END:VEVENT
BEGIN:VEVENT
DTSTART;TZID=America/New_York:20260516T120000
DTEND;TZID=America/New_York:20260516T210000
DTSTAMP:20260423T193630
CREATED:20260410T145927Z
LAST-MODIFIED:20260410T145929Z
UID:2165-1778932800-1778965200@reddvolkaert.com
SUMMARY:NC Thumb and Finger Style Guitar Players
DESCRIPTION:At the Statesville Historical Collection $30 for all events \n\n\n\nClinics 12 noon til 5\, Concerts at 6PM
URL:https://reddvolkaert.com/event/nc-thumb-and-finger-style-guitar-players-2/
END:VEVENT
BEGIN:VEVENT
DTSTART;TZID=America/New_York:20260515T140000
DTEND;TZID=America/New_York:20260515T210000
DTSTAMP:20260423T193630
CREATED:20260410T145547Z
LAST-MODIFIED:20260410T150034Z
UID:2160-1778853600-1778878800@reddvolkaert.com
SUMMARY:NC Thumb and Finger Style Guitar Players
DESCRIPTION:At the Statesville Historical Collection $30 for all events \n\n\n\nAt the Statesville Historical Collection $30 for all events
URL:https://reddvolkaert.com/event/nc-thumb-and-finger-style-guitar-players-3/
LOCATION:Statesville Historical Collection\, 117 S Center St\, Statesville\, North Carolina\, 28677
END:VEVENT
BEGIN:VEVENT
DTSTART;TZID=America/New_York:20260514T190000
DTEND;TZID=America/New_York:20260514T210000
DTSTAMP:20260423T193630
CREATED:20260216T213700Z
LAST-MODIFIED:20260216T213703Z
UID:2115-1778785200-1778792400@reddvolkaert.com
SUMMARY:Floyd Country Store
DESCRIPTION:Good Ol’ Happy Hours!
URL:https://reddvolkaert.com/event/floyd-country-store-50/
LOCATION:Floyd Country Store\, 206 South Locust Street\, Floyd\, VA\, 24091\, United States
END:VEVENT
BEGIN:VEVENT
DTSTART;TZID=America/New_York:20260507T190000
DTEND;TZID=America/New_York:20260507T210000
DTSTAMP:20260423T193630
CREATED:20260216T213520Z
LAST-MODIFIED:20260216T213524Z
UID:2113-1778180400-1778187600@reddvolkaert.com
SUMMARY:Floyd Country Store
DESCRIPTION:Good ol’ Happy Hours!!
URL:https://reddvolkaert.com/event/floyd-country-store-49/
LOCATION:Floyd Country Store\, 206 South Locust Street\, Floyd\, VA\, 24091\, United States
END:VEVENT
BEGIN:VEVENT
DTSTART;TZID=America/New_York:20260503T100000
DTEND;TZID=America/New_York:20260503T170000
DTSTAMP:20260423T193630
CREATED:20260216T213234Z
LAST-MODIFIED:20260216T213321Z
UID:2110-1777802400-1777827600@reddvolkaert.com
SUMMARY:Dallas International Guitar Show
DESCRIPTION:Guitar Nuts Dream Come True!
URL:https://reddvolkaert.com/event/dallas-international-guitar-show-2/
LOCATION:Market Hall\, 2200 N Stemmons Fwy\, Dallas\, TX 75207\, Dallas\, Texas\, 75207
END:VEVENT
BEGIN:VEVENT
DTSTART;TZID=America/New_York:20260502T100000
DTEND;TZID=America/New_York:20260502T170000
DTSTAMP:20260423T193630
CREATED:20260216T213156Z
LAST-MODIFIED:20260216T213159Z
UID:2106-1777716000-1777741200@reddvolkaert.com
SUMMARY:Dallas International Guitar Show
DESCRIPTION:Guitar Nuts Dream Come True!
URL:https://reddvolkaert.com/event/dallas-international-guitar-show/
LOCATION:Market Hall\, 2200 N Stemmons Fwy\, Dallas\, TX 75207\, Dallas\, Texas\, 75207
END:VEVENT
BEGIN:VEVENT
DTSTART;TZID=America/New_York:20260501T190000
DTEND;TZID=America/New_York:20260501T210000
DTSTAMP:20260423T193630
CREATED:20260410T143812Z
LAST-MODIFIED:20260410T143814Z
UID:2156-1777662000-1777669200@reddvolkaert.com
SUMMARY:Western Flyers at Chautauqua Auditorium
DESCRIPTION:FREE CONCERT w/Western Flyers before it gets hot!
URL:https://reddvolkaert.com/event/western-flyers-at-chautauqua-auditorium/
LOCATION:Chautauqua Auditorium\, Getzendaner Park\, 400 S Grand Ave\, Waxahachie\, Texas\, 75165
END:VEVENT
BEGIN:VEVENT
DTSTART;TZID=America/New_York:20260430T190000
DTEND;TZID=America/New_York:20260430T210000
DTSTAMP:20260423T193630
CREATED:20260410T143210Z
LAST-MODIFIED:20260410T143211Z
UID:2154-1777575600-1777582800@reddvolkaert.com
SUMMARY:House Concert!!
DESCRIPTION:House Party/Concert w/Western Flyers in Burleson Tx \n\n\n\nCall for details\, 817-875-6022
URL:https://reddvolkaert.com/event/house-concert/
END:VEVENT
BEGIN:VEVENT
DTSTART;TZID=America/New_York:20260426T173000
DTEND;TZID=America/New_York:20260426T190000
DTSTAMP:20260423T193630
CREATED:20260410T142925Z
LAST-MODIFIED:20260410T142926Z
UID:2150-1777224600-1777230000@reddvolkaert.com
SUMMARY:Gina's Pizza
DESCRIPTION:Afternoon/supper gig w/Western Flyers in Burleson Tx at a wonderful pizza palace!
URL:https://reddvolkaert.com/event/ginas-pizza/
LOCATION:Gina’s Pizza\, 319 NW Renfro St\, Burleson\, TX 76028\, Burleson\, Texas\, 76028
END:VEVENT
BEGIN:VEVENT
DTSTART;TZID=America/New_York:20260425T190000
DTEND;TZID=America/New_York:20260425T220000
DTSTAMP:20260423T193630
CREATED:20260410T142508Z
LAST-MODIFIED:20260410T142510Z
UID:2148-1777143600-1777154400@reddvolkaert.com
SUMMARY:Private w/Western Flyers
DESCRIPTION:Private Shindig at  ranch in Bixby OK
URL:https://reddvolkaert.com/event/private-w-western-flyers/
END:VEVENT
BEGIN:VEVENT
DTSTART;TZID=America/New_York:20260418T200000
DTEND;TZID=America/New_York:20260418T213000
DTSTAMP:20260423T193630
CREATED:20260216T212729Z
LAST-MODIFIED:20260410T140918Z
UID:2102-1776542400-1776547800@reddvolkaert.com
SUMMARY:C-Boys
DESCRIPTION:South Congress RULES!!
URL:https://reddvolkaert.com/event/c-boys/
LOCATION:C Boys\, 2008 S Congress Ave\, Austin\, TX\, Austin\, Texas\, 78704
END:VEVENT
BEGIN:VEVENT
DTSTART;TZID=America/New_York:20260417T180000
DTEND;TZID=America/New_York:20260417T190000
DTSTAMP:20260423T193630
CREATED:20260410T141334Z
LAST-MODIFIED:20260410T144647Z
UID:2144-1776448800-1776452400@reddvolkaert.com
SUMMARY:Jo's Coffee
DESCRIPTION:Almost Live in the barking lot!
URL:https://reddvolkaert.com/event/jos-coffee/
LOCATION:Jo’s Coffee\, 1300 South Congress Avenue\, Austin\, Texas\, 78704
END:VEVENT
BEGIN:VEVENT
DTSTART;TZID=America/New_York:20260417T124500
DTEND;TZID=America/New_York:20260417T134500
DTSTAMP:20260423T193630
CREATED:20260216T212147Z
LAST-MODIFIED:20260216T212149Z
UID:2098-1776429900-1776433500@reddvolkaert.com
SUMMARY:Lonestar Roundup
DESCRIPTION:Almost Live in Austin Texas!!
URL:https://reddvolkaert.com/event/lonestar-roundup/
LOCATION:Travis County Expo Center 7311 Decker Lane Austin\, Texas 78724\, 7311 Decker Lane\, Austin\, Texas\, 78724
END:VEVENT
BEGIN:VEVENT
DTSTART;TZID=America/New_York:20260409T190000
DTEND;TZID=America/New_York:20260409T210000
DTSTAMP:20260423T193630
CREATED:20251207T184753Z
LAST-MODIFIED:20251207T184801Z
UID:2064-1775761200-1775768400@reddvolkaert.com
SUMMARY:Floyd Country Store
DESCRIPTION:Come and Enjoy music\, food and a big dance floor for a coupla happy hours!
URL:https://reddvolkaert.com/event/floyd-country-store-72/
LOCATION:Floyd Country Store\, 206 South Locust Street\, Floyd\, VA\, 24091\, United States
END:VEVENT
BEGIN:VEVENT
DTSTART;TZID=America/New_York:20260326T190000
DTEND;TZID=America/New_York:20260326T210000
DTSTAMP:20260423T193630
CREATED:20251207T184526Z
LAST-MODIFIED:20251207T184534Z
UID:2060-1774551600-1774558800@reddvolkaert.com
SUMMARY:Floyd Country Store
DESCRIPTION:Come and Enjoy music\, food and a big dance floor for a coupla happy hours!
URL:https://reddvolkaert.com/event/floyd-country-store-70/
LOCATION:Floyd Country Store\, 206 South Locust Street\, Floyd\, VA\, 24091\, United States
END:VEVENT
BEGIN:VEVENT
DTSTART;TZID=America/New_York:20260312T190000
DTEND;TZID=America/New_York:20260312T210000
DTSTAMP:20260423T193630
CREATED:20251207T184328Z
LAST-MODIFIED:20251207T184335Z
UID:2056-1773342000-1773349200@reddvolkaert.com
SUMMARY:Floyd Country Store
DESCRIPTION:Come and Enjoy music\, food and a big dance floor for a coupla happy hours!
URL:https://reddvolkaert.com/event/floyd-country-store-68/
LOCATION:Floyd Country Store\, 206 South Locust Street\, Floyd\, VA\, 24091\, United States
END:VEVENT
BEGIN:VEVENT
DTSTART;TZID=America/New_York:20260226T190000
DTEND;TZID=America/New_York:20260226T210000
DTSTAMP:20260423T193630
CREATED:20251207T184127Z
LAST-MODIFIED:20251207T184133Z
UID:2052-1772132400-1772139600@reddvolkaert.com
SUMMARY:Floyd Country Store
DESCRIPTION:Come and Enjoy music\, food and a big dance floor for a coupla happy hours!
URL:https://reddvolkaert.com/event/floyd-country-store-66/
LOCATION:Floyd Country Store\, 206 South Locust Street\, Floyd\, VA\, 24091\, United States
END:VEVENT
BEGIN:VEVENT
DTSTART;TZID=America/New_York:20260221T200000
DTEND;TZID=America/New_York:20260221T223000
DTSTAMP:20260423T193630
CREATED:20260221T211213Z
LAST-MODIFIED:20260216T211545Z
UID:2094-1771704000-1771713000@reddvolkaert.com
SUMMARY:RamKat
DESCRIPTION:8 pm at the Gas Hill Drinking Room
URL:https://reddvolkaert.com/event/ramkat/
LOCATION:Ramkat/Gas Hill Drinking Room <br>Cash Bash\, 170 W 9th street\, Winston Salem\, North Carolina\, 28205
END:VEVENT
BEGIN:VEVENT
DTSTART;TZID=America/New_York:20260219T190000
DTEND;TZID=America/New_York:20260219T210000
DTSTAMP:20260423T193630
CREATED:20251207T184025Z
LAST-MODIFIED:20251207T184028Z
UID:2050-1771527600-1771534800@reddvolkaert.com
SUMMARY:Floyd Country Store
DESCRIPTION:Come and Enjoy music\, food and a big dance floor for a coupla happy hours!
URL:https://reddvolkaert.com/event/floyd-country-store-65/
LOCATION:Floyd Country Store\, 206 South Locust Street\, Floyd\, VA\, 24091\, United States
END:VEVENT
BEGIN:VEVENT
DTSTART;TZID=America/New_York:20260212T190000
DTEND;TZID=America/New_York:20260212T210000
DTSTAMP:20260423T193630
CREATED:20251207T183931Z
LAST-MODIFIED:20251207T183938Z
UID:2048-1770922800-1770930000@reddvolkaert.com
SUMMARY:Floyd Country Store
DESCRIPTION:Come and Enjoy music\, food and a big dance floor for a coupla happy hours!
URL:https://reddvolkaert.com/event/floyd-country-store-64/
LOCATION:Floyd Country Store\, 206 South Locust Street\, Floyd\, VA\, 24091\, United States
END:VEVENT
BEGIN:VEVENT
DTSTART;TZID=America/New_York:20260129T190000
DTEND;TZID=America/New_York:20260129T210000
DTSTAMP:20260423T193630
CREATED:20251207T183731Z
LAST-MODIFIED:20251207T183737Z
UID:2044-1769713200-1769720400@reddvolkaert.com
SUMMARY:Floyd Country Store
DESCRIPTION:Come and Enjoy music\, food and a big dance floor for a coupla happy hours!
URL:https://reddvolkaert.com/event/floyd-country-store-62/
LOCATION:Floyd Country Store\, 206 South Locust Street\, Floyd\, VA\, 24091\, United States
END:VEVENT
END:VCALENDAR