BEGIN:VCALENDAR
VERSION:2.0
PRODID:-//Redd Volkaert - ECPv6.15.20//NONSGML v1.0//EN
CALSCALE:GREGORIAN
METHOD:PUBLISH
X-WR-CALNAME:Redd Volkaert
X-ORIGINAL-URL:https://reddvolkaert.com
X-WR-CALDESC:Events for Redd Volkaert
REFRESH-INTERVAL;VALUE=DURATION:PT1H
X-Robots-Tag:noindex
X-PUBLISHED-TTL:PT1H
BEGIN:VTIMEZONE
TZID:America/New_York
BEGIN:DAYLIGHT
TZOFFSETFROM:-0500
TZOFFSETTO:-0400
TZNAME:EDT
DTSTART:20250309T070000
END:DAYLIGHT
BEGIN:STANDARD
TZOFFSETFROM:-0400
TZOFFSETTO:-0500
TZNAME:EST
DTSTART:20251102T060000
END:STANDARD
BEGIN:DAYLIGHT
TZOFFSETFROM:-0500
TZOFFSETTO:-0400
TZNAME:EDT
DTSTART:20260308T070000
END:DAYLIGHT
BEGIN:STANDARD
TZOFFSETFROM:-0400
TZOFFSETTO:-0500
TZNAME:EST
DTSTART:20261101T060000
END:STANDARD
BEGIN:DAYLIGHT
TZOFFSETFROM:-0500
TZOFFSETTO:-0400
TZNAME:EDT
DTSTART:20270314T070000
END:DAYLIGHT
BEGIN:STANDARD
TZOFFSETFROM:-0400
TZOFFSETTO:-0500
TZNAME:EST
DTSTART:20271107T060000
END:STANDARD
END:VTIMEZONE
BEGIN:VEVENT
DTSTART;TZID=America/New_York:20260625T190000
DTEND;TZID=America/New_York:20260625T210000
DTSTAMP:20260423T193312
CREATED:20260410T150529Z
LAST-MODIFIED:20260410T150531Z
UID:2170-1782414000-1782421200@reddvolkaert.com
SUMMARY:Floyd Country Store
DESCRIPTION:Back at the wonderful Floyd Country Store
URL:https://reddvolkaert.com/event/floyd-country-store-53/
LOCATION:Floyd Country Store\, 206 South Locust Street\, Floyd\, VA\, 24091\, United States
END:VEVENT
BEGIN:VEVENT
DTSTART;TZID=America/New_York:20260709T190000
DTEND;TZID=America/New_York:20260709T210000
DTSTAMP:20260423T193312
CREATED:20260410T151527Z
LAST-MODIFIED:20260410T151528Z
UID:2176-1783623600-1783630800@reddvolkaert.com
SUMMARY:Floyd Country Store
DESCRIPTION:Back at the wonderful Floyd Country Store
URL:https://reddvolkaert.com/event/floyd-country-store-54/
LOCATION:Floyd Country Store\, 206 South Locust Street\, Floyd\, VA\, 24091\, United States
END:VEVENT
BEGIN:VEVENT
DTSTART;TZID=America/New_York:20260725T220000
DTEND;TZID=America/New_York:20260726T000000
DTSTAMP:20260423T193312
CREATED:20260410T162423Z
LAST-MODIFIED:20260410T162425Z
UID:2206-1785016800-1785024000@reddvolkaert.com
SUMMARY:Country Music Hall of Fame Switzerland!!!
DESCRIPTION:Playing w/Tina Clark & Rebound for July 15-26 in Switzerland \n\n\n\nReservations: +41 33 550 36 53
URL:https://reddvolkaert.com/event/country-music-hall-of-fame-switzerland/
LOCATION:Freier Eintritt\, Kupfergasse\, 3653 Oberhofen\, Switzerland
END:VEVENT
BEGIN:VEVENT
DTSTART;TZID=America/New_York:20260806T190000
DTEND;TZID=America/New_York:20260806T210000
DTSTAMP:20260423T193312
CREATED:20260410T152631Z
LAST-MODIFIED:20260410T152633Z
UID:2178-1786042800-1786050000@reddvolkaert.com
SUMMARY:Floyd Country Store
DESCRIPTION:Finally back at the wonderful Floyd Country Store
URL:https://reddvolkaert.com/event/floyd-country-store-55/
LOCATION:Floyd Country Store\, 206 South Locust Street\, Floyd\, VA\, 24091\, United States
END:VEVENT
BEGIN:VEVENT
DTSTART;TZID=America/New_York:20260820T190000
DTEND;TZID=America/New_York:20260820T210000
DTSTAMP:20260423T193312
CREATED:20260410T152808Z
LAST-MODIFIED:20260410T152809Z
UID:2180-1787252400-1787259600@reddvolkaert.com
SUMMARY:Floyd Country Store
DESCRIPTION:2!! Happy Hours in a row!
URL:https://reddvolkaert.com/event/floyd-country-store-56/
LOCATION:Floyd Country Store\, 206 South Locust Street\, Floyd\, VA\, 24091\, United States
END:VEVENT
BEGIN:VEVENT
DTSTART;TZID=America/New_York:20260903T190000
DTEND;TZID=America/New_York:20260903T210000
DTSTAMP:20260423T193312
CREATED:20260410T152927Z
LAST-MODIFIED:20260410T152928Z
UID:2182-1788462000-1788469200@reddvolkaert.com
SUMMARY:Floyd Country Store
DESCRIPTION:2!! Happy Hours in a row!
URL:https://reddvolkaert.com/event/floyd-country-store-57/
LOCATION:Floyd Country Store\, 206 South Locust Street\, Floyd\, VA\, 24091\, United States
END:VEVENT
BEGIN:VEVENT
DTSTART;TZID=America/New_York:20260906T190000
DTEND;TZID=America/New_York:20260906T230000
DTSTAMP:20260423T193312
CREATED:20260410T153139Z
LAST-MODIFIED:20260410T153141Z
UID:2184-1788721200-1788735600@reddvolkaert.com
SUMMARY:Danny Gatton Birthday Bash!
DESCRIPTION:Anual birthday bash with a cast of thousands!! \n\n\n\nTelecaster- Geddon\, I mean Gatton
URL:https://reddvolkaert.com/event/danny-gatton-birthday-bash/
LOCATION:Birchmere\, 3701 Mount Vernon Ave\, Alexandria\, 22305\, United States
END:VEVENT
BEGIN:VEVENT
DTSTART;TZID=America/New_York:20260911T133000
DTEND;TZID=America/New_York:20260911T151500
DTSTAMP:20260423T193312
CREATED:20260410T154207Z
LAST-MODIFIED:20260410T154208Z
UID:2186-1789133400-1789139700@reddvolkaert.com
SUMMARY:Old MacDonald's Festival
DESCRIPTION:Three days of LIVE music and frivolities!!
URL:https://reddvolkaert.com/event/old-macdonalds-festival/
LOCATION:Old MacDonalds Festival\, 21246 Township Road 40-2\, Stettler County\, Alberta Canada\, T0C 1G0\, Canada
END:VEVENT
BEGIN:VEVENT
DTSTART;TZID=America/New_York:20260912T113000
DTEND;TZID=America/New_York:20260912T150000
DTSTAMP:20260423T193312
CREATED:20260410T154407Z
LAST-MODIFIED:20260410T154409Z
UID:2192-1789212600-1789225200@reddvolkaert.com
SUMMARY:Old MacDonald's Festival
DESCRIPTION:Three days of LIVE music and frivolities!!
URL:https://reddvolkaert.com/event/old-macdonalds-festival-2/
LOCATION:Old MacDonalds Festival\, 21246 Township Road 40-2\, Stettler County\, Alberta Canada\, T0C 1G0\, Canada
END:VEVENT
BEGIN:VEVENT
DTSTART;TZID=America/New_York:20260917T190000
DTEND;TZID=America/New_York:20260917T210000
DTSTAMP:20260423T193312
CREATED:20260410T154523Z
LAST-MODIFIED:20260410T154524Z
UID:2194-1789671600-1789678800@reddvolkaert.com
SUMMARY:Floyd Country Store
DESCRIPTION:Back again!
URL:https://reddvolkaert.com/event/floyd-country-store-58/
LOCATION:Floyd Country Store\, 206 South Locust Street\, Floyd\, VA\, 24091\, United States
END:VEVENT
BEGIN:VEVENT
DTSTART;TZID=America/New_York:20260924T190000
DTEND;TZID=America/New_York:20260924T210000
DTSTAMP:20260423T193312
CREATED:20260410T154719Z
LAST-MODIFIED:20260410T154720Z
UID:2196-1790276400-1790283600@reddvolkaert.com
SUMMARY:Floyd Country Store
DESCRIPTION:Baaaaaaack at it!
URL:https://reddvolkaert.com/event/floyd-country-store-60/
LOCATION:Floyd Country Store\, 206 South Locust Street\, Floyd\, VA\, 24091\, United States
END:VEVENT
BEGIN:VEVENT
DTSTART;TZID=America/New_York:20260928T100000
DTEND;TZID=America/New_York:20260928T230000
DTSTAMP:20260423T193312
CREATED:20260410T155430Z
LAST-MODIFIED:20260410T155431Z
UID:2198-1790589600-1790636400@reddvolkaert.com
SUMMARY:Masters of the Telecaster
DESCRIPTION:If you’ve ever dreamed of the perfect vacation away from your family\, this is it!  \n\n\n\nBeautiful setting in New York state at an amazing resort\, watching ALL your favorite ‘telecaster’ guitar players in the world teaching ALL their tricks\, crashes and spills\, even a bit of what not to do\, (thats my part) this is the place you need to be for 4 days and nights of ‘telecaster’ overload                     Better than any cruise!
URL:https://reddvolkaert.com/event/masters-of-the-telecaster/
LOCATION:Blue Moon Resort\, Big Indian\, New York
END:VEVENT
BEGIN:VEVENT
DTSTART;TZID=America/New_York:20260929T100000
DTEND;TZID=America/New_York:20260929T230000
DTSTAMP:20260423T193312
CREATED:20260410T155530Z
LAST-MODIFIED:20260410T155532Z
UID:2200-1790676000-1790722800@reddvolkaert.com
SUMMARY:Masters of the Telecaster
DESCRIPTION:If you’ve ever dreamed of the perfect vacation away from your family\, this is it!  \n\n\n\nBeautiful setting in New York state at an amazing resort\, watching ALL your favorite ‘telecaster’ guitar players in the world teaching ALL their tricks\, crashes and spills\, even a bit of what not to do\, (thats my part) this is the place you need to be for 4 days and nights of ‘telecaster’ overload                     Better than any cruise!
URL:https://reddvolkaert.com/event/masters-of-the-telecaster-2/
LOCATION:Blue Moon Resort\, Big Indian\, New York
END:VEVENT
BEGIN:VEVENT
DTSTART;TZID=America/New_York:20260930T100000
DTEND;TZID=America/New_York:20260930T230000
DTSTAMP:20260423T193312
CREATED:20260410T160346Z
LAST-MODIFIED:20260410T160348Z
UID:2202-1790762400-1790809200@reddvolkaert.com
SUMMARY:Masters of the Telecaster
DESCRIPTION:If you’ve ever dreamed of the perfect vacation away from your family\, this is it!  \n\n\n\nBeautiful setting in New York state at an amazing resort\, watching ALL your favorite ‘telecaster’ guitar players in the world teaching ALL their tricks\, crashes and spills\, even a bit of what not to do\, (thats my part) this is the place you need to be for 4 days and nights of ‘telecaster’ overload                     Better than any cruise!
URL:https://reddvolkaert.com/event/masters-of-the-telecaster-3/
LOCATION:Blue Moon Resort\, Big Indian\, New York
END:VEVENT
BEGIN:VEVENT
DTSTART;TZID=America/New_York:20261001T100000
DTEND;TZID=America/New_York:20261001T230000
DTSTAMP:20260423T193312
CREATED:20260410T160504Z
LAST-MODIFIED:20260410T160506Z
UID:2204-1790848800-1790895600@reddvolkaert.com
SUMMARY:Masters of the Telecaster
DESCRIPTION:If you’ve ever dreamed of the perfect vacation away from your family\, this is it!  \n\n\n\nBeautiful setting in New York state at an amazing resort\, watching ALL your favorite ‘telecaster’ guitar players in the world teaching ALL their tricks\, crashes and spills\, even a bit of what not to do\, (thats my part) this is the place you need to be for 4 days and nights of ‘telecaster’ overload                     Better than any cruise!
URL:https://reddvolkaert.com/event/masters-of-the-telecaster-4/
LOCATION:Blue Moon Resort\, Big Indian\, New York
END:VEVENT
END:VCALENDAR